BEGIN:VCALENDAR
VERSION:2.0
METHOD:PUBLISH
X-WR-CALNAME;VALUE=TEXT:FFITT-LLC Calendar
PRODID:-//FFITT - Fortified Firearms Instruction & Tactical Training//FFITT-LLC Calendar
BEGIN:VEVENT
METHOD:PUBLISH
DTSTART:2018-05-07T17:00:00Z
DTEND:2018-05-07T21:00:00Z
SUMMARY:USCCA Concealed Carry Course
UID:5
DESCRIPTION:Come and learn from a profession in law enforcement about\:\n- Developing A Personal and Home Protection Plan\n- Safety and Self-Defense Firearms Basics\n- Defensive Shooting Fundamentals\n- Legal Use of Force and Other Legal Considerations\n- Gear and Gadgets\n- Basic and Advanced Skills\nThis 4 hour course exceeds Colorado minimum standards.\n(This is a non-shoot course\, dry-fire exercises performed in class.)
CLASS:PUBLIC
STATUS:CONFIRMED
END:VEVENT
BEGIN:VEVENT
METHOD:PUBLISH
DTSTART:2019-03-30T16:00:00Z
DTEND:2019-03-30T22:00:00Z
SUMMARY:USCCA CCW
UID:6
DESCRIPTION:Come and learn from a professional in law enforcement and military veteran about\:\n\n- Developing A Personal and Home Protection Plan \n- Safety and Self-Defense Firearms Basics - Defensive Shooting Fundamentals \n- Legal Use of Force and Other Legal Considerations \n- Gear and Gadgets \n- Basic and Advanced Skills \n\nThis 6 hour course exceeds Colorado minimum standards. (This is a non-shoot course\, dry-fire exercises performed in class.) There are 20 seats available\, get yours before they're gone.\n\nTo purchase on-line click the link below\:\nhttps\:\\squareup.com\store\fortified-firearms-instruction-and-tactical-training-llc
CLASS:PUBLIC
STATUS:CONFIRMED
END:VEVENT
BEGIN:VEVENT
METHOD:PUBLISH
DTSTART:2019-05-11T09:00:00Z
DTEND:2019-04-28T16:00:00Z
SUMMARY:USCCA CCW Class
UID:7
DESCRIPTION:Come and learn from a professional in law enforcement and military veteran about\:\n\n- Developing A Personal and Home Protection Plan \n- Safety and Self-Defense Firearms Basics - Defensive Shooting Fundamentals \n- Legal Use of Force and Other Legal Considerations \n- Gear and Gadgets \n- Basic and Advanced Skills \n\nThis 6 hour course exceeds Colorado minimum standards. (This is a non-shoot course\, dry-fire exercises performed in class.) There are 20 seats available\, get yours before they're gone.\n\nTo purchase on-line click the link below\:\nhttps\:\\squareup.com\store\fortified-firearms-instruction-and-tactical-training-llc
CLASS:PUBLIC
STATUS:CONFIRMED
END:VEVENT
BEGIN:VEVENT
METHOD:PUBLISH
DTSTART:2019-06-01T00:00:00Z
DTEND:2019-06-02T00:00:00Z
SUMMARY:USCCA Concealed Carry Course
UID:8
DESCRIPTION:Come learn from a military veteran and professional in law enforcement about\:\n\n- Developing A Personal and Home Protection Plan \n- Safety and Self-Defense Firearms Basics \n- Defensive Shooting Fundamentals \n- Legal Use of Force and Other Legal Considerations \n- Gear and Gadgets \n- Basic and Advanced Skills \n\nThis 6 hour course exceeds Colorado minimum standards. Concealed Carry and Home Defense Fundamentals is a comprehensive course for anyone considering owning or carrying a firearm for self-defense. The course is a complete guide to understanding conflict avoidance and situational awareness\; home security and home defense\; handgun\; shooting fundamentals\; the physiology of violent encounters\; the legal aspects of using deadly force (including knowing what to do in the aftermath)\; and a complete guide on gear\, gadgets\, and ongoing training. \n\n(This is a non-shoot course\, dry-fire exercises performed in class.) \n\n20 seats available
CLASS:PUBLIC
STATUS:CONFIRMED
END:VEVENT
BEGIN:VEVENT
METHOD:PUBLISH
DTSTART:2019-07-13T09:00:00Z
DTEND:2019-07-13T16:00:00Z
SUMMARY:USCCA Concealed Carry Course
UID:9
DESCRIPTION:Come learn from a US Military Veteran and current law enforcement professional about\: \n\n- Developing A Personal and Home Protection Plan \n- Safety and Self-Defense Firearms Basics \n- Defensive Shooting Fundamentals \n- Legal Use of Force and Other Legal Considerations \n- Gear and Gadgets \n- Basic and Advanced Skills \n\nThis 6 hour course exceeds Colorado minimum standards. Concealed Carry and Home Defense Fundamentals is a comprehensive course for anyone considering owning or carrying a firearm for self-defense. The course is a complete guide to understanding conflict avoidance and situational awareness\; home security and home defense\; handgun\; shooting fundamentals\; the physiology of violent encounters\; the legal aspects of using deadly force (including knowing what to do in the aftermath)\; and a complete guide on gear\, gadgets\, and ongoing training. \n(This is a non-shoot course\, dry-fire exercises performed in class.) 20 seats available
CLASS:PUBLIC
STATUS:CONFIRMED
END:VEVENT
BEGIN:VEVENT
METHOD:PUBLISH
DTSTART:2019-08-24T09:00:00Z
DTEND:2019-08-24T16:00:00Z
SUMMARY:USCCA Concealed Carry Course
UID:10
DESCRIPTION:Come learn from a US Military Veteran and current law enforcement professional about\: \n \n - Developing A Personal and Home Protection Plan \n - Safety and Self-Defense Firearms Basics \n - Defensive Shooting Fundamentals \n - Legal Use of Force and Other Legal Considerations \n - Gear and Gadgets \n - Basic and Advanced Skills \n \nThis 6 hour course exceeds Colorado minimum standards. Concealed Carry and Home Defense Fundamentals is a comprehensive course for anyone considering owning or carrying a firearm for self-defense. The course is a complete guide to understanding conflict avoidance and situational awareness\; home security and home defense\; handgun\; shooting fundamentals\; the physiology of violent encounters\; the legal aspects of using deadly force (including knowing what to do in the aftermath)\; and a complete guide on gear\, gadgets\, and ongoing training. (This is a non-shoot course\, dry-fire exercises performed in class.) 20 seats available
CLASS:PUBLIC
STATUS:CONFIRMED
END:VEVENT
BEGIN:VEVENT
METHOD:PUBLISH
DTSTART:2019-09-21T09:00:00Z
DTEND:2019-09-21T16:00:00Z
SUMMARY:USCCA Concealed Carry Course
UID:11
URL:https://squareup.com/store/fortified-firearms-instruction-and-tactical-training-llc
CLASS:PUBLIC
STATUS:CONFIRMED
END:VEVENT
BEGIN:VEVENT
METHOD:PUBLISH
DTSTART:2019-10-26T09:00:00Z
DTEND:2019-10-26T16:00:00Z
SUMMARY:USCCA Concealed Carry Course
UID:12
URL:https://squareup.com/store/fortified-firearms-instruction-and-tactical-training-llc
CLASS:PUBLIC
STATUS:CONFIRMED
END:VEVENT
BEGIN:VEVENT
METHOD:PUBLISH
DTSTART:2019-09-17T16:00:00Z
DTEND:2019-09-17T20:00:00Z
SUMMARY:Smokeless Range
UID:13
DESCRIPTION:Come try the new Smokeless Range from Laser Ammo and help raise funds for VFW Post 322 every Tuesday from 4 pm to 8pm. Use the range from 15 minutes to an hours for $10 to $40. Get personal coaching during your time or just have fun. And if you're hungry\, the Post has their Taco Tuesday fundraiser from 5 pm to 7 pm. So come down for Taco Tuesday and get some Targeting Time to boot!
CLASS:PUBLIC
STATUS:CONFIRMED
END:VEVENT
BEGIN:VEVENT
METHOD:PUBLISH
DTSTART:2019-09-24T16:00:00Z
DTEND:2019-09-24T20:00:00Z
SUMMARY:Smokeless Range
UID:14
DESCRIPTION:Come try the new Smokeless Range from Laser Ammo and help raise funds for VFW Post 322 every Tuesday from 4 pm to 8pm. Use the range from 15 minutes to an hours for $10 to $40. Get personal coaching during your time or just have fun. And if you're hungry\, the Post has their Taco Tuesday fundraiser from 5 pm to 7 pm. So come down for Taco Tuesday and get some Targeting Time to boot!
CLASS:PUBLIC
STATUS:CONFIRMED
END:VEVENT
BEGIN:VEVENT
METHOD:PUBLISH
DTSTART:2019-10-01T16:00:00Z
DTEND:2019-10-01T20:00:00Z
SUMMARY:Smokeless Range
UID:15
DESCRIPTION:Come try the new Smokeless Range from Laser Ammo and help raise funds for VFW Post 322 every Tuesday from 4 pm to 8pm. Use the range from 15 minutes to an hours for $10 to $40. Get personal coaching during your time or just have fun. And if you're hungry\, the Post has their Taco Tuesday fundraiser from 5 pm to 7 pm. So come down for Taco Tuesday and get some Targeting Time to boot!
CLASS:PUBLIC
STATUS:CONFIRMED
END:VEVENT
BEGIN:VEVENT
METHOD:PUBLISH
DTSTART:2020-01-04T00:00:00Z
DTEND:2020-01-05T00:00:00Z
SUMMARY:USCCA Concealed Carry Course
UID:16
URL:https://squareup.com/store/fortified-firearms-instruction-and-tactical-training-llc
DESCRIPTION:Come and learn from a professional in law enforcement and a US military veteran about\: \n\n- Developing A Personal and Home Protection Plan \n- Safety and Self-Defense Firearms Basics \n- Defensive Shooting Fundamentals \n- Legal Use of Force and Other Legal Considerations \n- Gear and Gadgets \n- Basic and Advanced Skills \n\nThis 6 hour course exceeds Colorado minimum standards. Concealed Carry and Home Defense Fundamentals is a comprehensive course for anyone considering owning or carrying a firearm for self-defense. The course is a complete guide to understanding conflict avoidance and situational awareness\; home security and home defense\; handgun\; shooting fundamentals\; the physiology of violent encounters\; the legal aspects of using deadly force (including knowing what to do in the aftermath)\; and a complete guide on gear\, gadgets\, and ongoing training. \n\nYou may bring your own firearm to class but no ammo.  SIRT training pistols will be provided for classroom exercises.  (This is a non-shoot course\, dry-fire exercises performed in class.) 20 seats available
CLASS:PUBLIC
STATUS:CONFIRMED
END:VEVENT
BEGIN:VEVENT
METHOD:PUBLISH
DTSTART:2020-01-06T17:00:00Z
DTEND:2020-01-06T20:00:00Z
SUMMARY:VFW Fundraiser\: Rent Firearms Simulator
UID:17
DESCRIPTION:VFW Post 5061\n5220 W Warren Ave \nDenver\, Colorado 80227\n\nCome try your hand at the Smokeless Range firearms training simulator to enhance you skills\, train\, or just have fun playing it like a game to raise money for the hosting VFW Post.\n\nRent the simulator for\:\n15 Minutes for $10\n30 Minutes for $20\n45 Minutes for $30\n60 Minutes for $40
CLASS:PUBLIC
STATUS:CONFIRMED
END:VEVENT
BEGIN:VEVENT
METHOD:PUBLISH
DTSTART:2020-02-01T09:00:00Z
DTEND:2020-02-01T16:00:00Z
SUMMARY:USCCA Concealed Carry Course
UID:18
URL:https://squareup.com/store/fortified-firearms-instruction-and-tactical-training-llc
CLASS:PUBLIC
STATUS:CONFIRMED
END:VEVENT
BEGIN:VEVENT
METHOD:PUBLISH
DTSTART:2020-01-14T17:00:00Z
DTEND:2020-01-14T20:00:00Z
SUMMARY:Smokeless Range
UID:19
DESCRIPTION:Fundraiser for VFW Post 322 located at 3800 S Windermere St\, Englewood CO 80110.\n\nCome try your hand at the Smokeless Range firearms training simulator to enhance you skills\, train\, or just have fun playing it like a game to raise money for the hosting VFW Post. Rent the simulator for\: \n\n15 Minutes for $10 \n30 Minutes for $20 \n45 Minutes for $30 \n60 Minutes for $40\n\n$5 for each additional person using the simulator during the same time block.
CLASS:PUBLIC
STATUS:CONFIRMED
END:VEVENT
BEGIN:VEVENT
METHOD:PUBLISH
DTSTART:2020-02-03T17:00:00Z
DTEND:2020-02-03T20:00:00Z
SUMMARY:Smokeless Range Fundraiser For VFW Post 5061 (Post Members Only)
UID:20
DESCRIPTION:Fundraiser for VFW Post 5061 located at 5220 W Warren Ave\, Denver CO 80227.\n\nCome try your hand at the Smokeless Range firearms training simulator to enhance you skills\, train\, or just have fun playing it like a game to raise money for the hosting VFW Post. Rent the simulator for\: \n\n15 Minutes for $10 \n30 Minutes for $20 \n45 Minutes for $30 \n60 Minutes for $40\n\n$5 for each additional person using the simulator during the same time block.
CLASS:PUBLIC
STATUS:CONFIRMED
END:VEVENT
BEGIN:VEVENT
METHOD:PUBLISH
DTSTART:2020-03-16T18:00:00Z
DTEND:2020-03-16T21:00:00Z
SUMMARY:USCCA Concealed Carry Course Part I
UID:21
URL:https://squareup.com/store/fortified-firearms-instruction-and-tactical-training-llc
CLASS:PUBLIC
STATUS:CONFIRMED
END:VEVENT
BEGIN:VEVENT
METHOD:PUBLISH
DTSTART:2020-03-17T18:00:00Z
DTEND:2020-03-17T21:00:00Z
SUMMARY:USCCA Concealed Carry Course Part II
UID:22
URL:https://squareup.com/store/fortified-firearms-instruction-and-tactical-training-llc
CLASS:PUBLIC
STATUS:CONFIRMED
END:VEVENT
BEGIN:VEVENT
METHOD:PUBLISH
DTSTART:2020-03-21T00:00:00Z
DTEND:2020-03-23T00:00:00Z
SUMMARY:USCCA CCHD Instructor Course
UID:23
URL:https://squareup.com/store/fortified-firearms-instruction-and-tactical-training-llc
CLASS:PUBLIC
STATUS:CONFIRMED
END:VEVENT
BEGIN:VEVENT
METHOD:PUBLISH
DTSTART:2020-03-28T08:30:00Z
DTEND:2020-03-28T12:30:00Z
SUMMARY:Countering The Mass Shooter Threat
UID:24
URL:https://squareup.com/store/fortified-firearms-instruction-and-tactical-training-llc
CLASS:PUBLIC
STATUS:CONFIRMED
END:VEVENT
BEGIN:VEVENT
METHOD:PUBLISH
DTSTART:2020-04-11T09:00:00Z
DTEND:2020-04-11T16:00:00Z
SUMMARY:USCCA Concealed Carry Course
UID:25
URL:https://squareup.com/store/fortified-firearms-instruction-and-tactical-training-llc
CLASS:PUBLIC
STATUS:CONFIRMED
END:VEVENT
BEGIN:VEVENT
METHOD:PUBLISH
DTSTART:2020-05-02T09:00:00Z
DTEND:2020-05-02T16:00:00Z
SUMMARY:USCCA Concealed Carry Course
UID:26
DESCRIPTION:Concealed Carry and Home Defense Fundamentals is a comprehensive course for anyone considering owning or carrying a firearm for self-defense. The course is a complete guide to understanding conflict avoidance and situational awareness\; home security and home defense\; handgun\, shotgun and AR-15 basics\; shooting fundamentals\; the physiology of violent encounters\; the legal aspects of using deadly force (including knowing what to do in the aftermath)\; and a complete guide on gear\, gadgets\, and ongoing training.\n\nYou may bring your own firearm to class but no ammo.  SIRT training pistols will be provided for classroom exercises.  (This is a non-shoot course\, dry-fire exercises performed in class.) 9 seats available\n\nhttps\:\\fortified-firearms-instruction-and-tactical-training-llc.square.site\
CLASS:PUBLIC
STATUS:CONFIRMED
END:VEVENT
BEGIN:VEVENT
METHOD:PUBLISH
DTSTART:2020-05-30T09:00:00Z
DTEND:2020-05-30T16:00:00Z
SUMMARY:USCCA Concealed Carry Course (Private Class)
UID:27
DESCRIPTION:Concealed Carry and Home Defense Fundamentals is a comprehensive course for anyone considering owning or carrying a firearm for self-defense. The course is a complete guide to understanding conflict avoidance and situational awareness\; home security and home defense\; handgun\, shotgun and AR-15 basics\; shooting fundamentals\; the physiology of violent encounters\; the legal aspects of using deadly force (including knowing what to do in the aftermath)\; and a complete guide on gear\, gadgets\, and ongoing training.\n\nYou may bring your own firearm to class but no ammo.  SIRT training pistols will be provided for classroom exercises.  (This is a non-shoot course\, dry-fire exercises performed in class.) 9 seats available
CLASS:PUBLIC
STATUS:CONFIRMED
END:VEVENT
BEGIN:VEVENT
METHOD:PUBLISH
DTSTART:2020-05-23T00:00:00Z
DTEND:2020-05-25T00:00:00Z
SUMMARY:USCCA Concealed Carry & HDF Instructor Course
UID:28
DESCRIPTION:Upon successfully completing this course\, you will become USCCA Certified Instructor\, uniquely authorized to teach the USCCA course\, Concealed Carry and Home Defense Fundamentals. This course has become the gold standard across the United States for law abiding Americans seeking to obtain their concealed carry permit.\n\nAs a USCCA certified instructor\, you will be trained and equipped to provide world-class instruction to students. You will have access to our world class classroom materials (including a full set of PowerPoint presentations and classroom videos). During this two-day training course\, you’ll be taught by a USCCA Training Counselor on a number of valuable topics\, including\: \n\n- The top ten instructor mistakes\, and how to avoid them\; - Teaching best practices\; \n- and running a safe live fire range. \n\nYou’ll also have a chance to demonstrate your knowledge of the USCCA training material through seven short presentations to a group of your peers\, as well as running a live fire range\, guiding your peers through the safe completion of the USCCA course of fire. After completion of this course\, you’ll not only be intimately familiar with the USCCA training methodology and materials\, you’ll be a far better instructor and presenter\, regardless of the topic of choice.\n\nTo pay and register click below\:\n\nhttps\:\\fortified-firearms-instruction-and-tactical-training-llc.square.site\
CLASS:PUBLIC
STATUS:CONFIRMED
END:VEVENT
BEGIN:VEVENT
METHOD:PUBLISH
DTSTART:2020-05-12T18:30:00Z
DTEND:2020-05-12T20:30:00Z
SUMMARY:LaserTRAIN Course
UID:29
URL:https://squareup.com/store/fortified-firearms-instruction-and-tactical-training-llc
CLASS:PUBLIC
STATUS:CONFIRMED
END:VEVENT
BEGIN:VEVENT
METHOD:PUBLISH
DTSTART:2020-06-29T00:00:00Z
DTEND:2020-06-29T00:00:00Z
SUMMARY:NRA New Gun Owner\Shooter Seminar
UID:30
URL:https://fortified-firearms-instruction-and-tactical-training-llc.square.site/
CLASS:PUBLIC
STATUS:CONFIRMED
END:VEVENT
BEGIN:VEVENT
METHOD:PUBLISH
DTSTART:2020-07-11T00:00:00Z
DTEND:2020-07-12T00:00:00Z
SUMMARY:USCCA Concealed Carry Course
UID:31
URL:https://fortified-firearms-instruction-and-tactical-training-llc.square.site/
CLASS:PUBLIC
STATUS:CONFIRMED
END:VEVENT
BEGIN:VEVENT
METHOD:PUBLISH
DTSTART:2020-07-14T00:00:00Z
DTEND:2020-07-15T00:00:00Z
SUMMARY:LaserTRAIN Course
UID:32
URL:https://fortified-firearms-instruction-and-tactical-training-llc.square.site/
CLASS:PUBLIC
STATUS:CONFIRMED
END:VEVENT
BEGIN:VEVENT
METHOD:PUBLISH
DTSTART:2020-07-18T00:00:00Z
DTEND:2020-07-19T00:00:00Z
SUMMARY:USCCA Concealed Carry Course by Associate Instructor
UID:33
URL:https://www.bulwarkstrategies.com/
CLASS:PUBLIC
STATUS:CONFIRMED
END:VEVENT
BEGIN:VEVENT
METHOD:PUBLISH
DTSTART:2020-07-25T00:00:00Z
DTEND:2020-07-26T00:00:00Z
SUMMARY:USCCA Concealed Carry Course by Associate Instructor
UID:34
URL:https://www.bulwarkstrategies.com/
CLASS:PUBLIC
STATUS:CONFIRMED
END:VEVENT
BEGIN:VEVENT
METHOD:PUBLISH
DTSTART:2020-08-22T00:00:00Z
DTEND:2020-08-25T00:00:00Z
SUMMARY:USCCA Concealed Carry & HDF Instructor Course
UID:35
URL:https://fortified-firearms-instruction-and-tactical-training-llc.square.site/
CLASS:PUBLIC
STATUS:CONFIRMED
END:VEVENT
BEGIN:VEVENT
METHOD:PUBLISH
DTSTART:2020-08-01T09:00:00Z
DTEND:2020-08-01T16:30:00Z
SUMMARY:USCCA Concealed Carry Course
UID:36
URL:https://fortified-firearms-instruction-and-tactical-training-llc.square.site/
CLASS:PUBLIC
STATUS:CONFIRMED
END:VEVENT
END:VCALENDAR
